Workbook

Sheet Konečné výsledky - pořadí
A1: 2026 | B1: MÍČOVÝ VÍCEBOJ 2026 - pořadí - konečné výsledky
A3: číslo | C3: basket | D3: florbal | E3: kopaná | F3: baseball | G3: petangue | H3: kuličky | I3: kuželky | J3: pinec | K3: volejbal | L3: nohejbal | M3: tenis | N3: součet | O3: pořadí
A4: =[1]Týmy!A5 -> 1 | B4: SÍDLISKOVÝ SEN | C4: 7 | D4: 8 | E4: 1 | F4: 10 | G4: 9 | H4: 6 | I4: 5 | J4: 7 | K4: 5 | L4: 4 | M4: 7 | N4: 69 | O4: 7.
A5: =[1]Týmy!A6 -> 2 | B5: VLČÁCI | C5: 11 | D5: 3 | E5: 8 | F5: 4 | G5: 1 | H5: 1 | I5: 6 | J5: 3 | K5: 4 | L5: 2 | M5: 6 | N5: 49 | O5: 4.
A6: =[1]Týmy!A7 -> 3 | B6: MÍČBOYS | C6: 8 | D6: 6 | E6: 2 | F6: 9 | G6: 8 | H6: 8 | I6: 3 | J6: 9 | K6: 7 | L6: 3 | M6: 10 | N6: 73 | O6: 8.
A7: =[1]Týmy!A8 -> 4 | B7: MÍČOVÉ KOMANDO | C7: 4 | D7: 2 | E7: 4 | F7: 2 | G7: 7 | H7: 4 | I7: 2 | J7: 2 | K7: 8 | L7: 9 | M7: 5 | N7: 49 | O7: 5.
A8: =[1]Týmy!A9 -> 5 | B8: AZ VRÁTNO | C8: 5 | D8: 4 | E8: 9 | F8: 6 | G8: 2 | H8: 2 | I8: 7 | J8: 6 | K8: 10 | L8: 6 | M8: 3 | N8: 60 | O8: 6.
A9: =[1]Týmy!A10 -> 6 | B9: VK ORLI PŘÍČNICE | C9: 2 | D9: 5 | E9: 7 | F9: 3 | G9: 6 | H9: 7 | I9: 4 | J9: 5 | K9: 3 | L9: 1 | M9: 4 | N9: 47 | O9: 3.
A10: =[1]Týmy!A11 -> 7 | B10: TULENI | C10: 10 | D10: 11 | E10: 6 | F10: 8 | G10: 3 | H10: 9 | I10: 9 | J10: 10 | K10: 6 | L10: 7 | M10: 8 | N10: 87 | O10: 9
A11: =[1]Týmy!A12 -> 8 | B11: LACHTANI | C11: 1 | D11: 9 | E11: 3 | F11: 5 | G11: 4 | H11: 3 | I11: 1 | J11: 4 | K11: 1 | L11: 8 | M11: 1 | N11: 40 | O11: 1.
A12: =[1]Týmy!A13 -> 9 | B12: HUŠKOVI | C12: 3 | D12: 1 | E12: 10 | F12: 1 | G12: 5 | H12: 5 | I12: 10 | J12: 1 | K12: 2 | L12: 5 | M12: 2 | N12: 45 | O12: 2.
A13: 10 | B13: PIŇĎOVÉ | C13: 6 | D13: 10 | E13: 4 | F13: 11 | G13: 10 | H13: 10 | I13: 8 | J13: 8 | K13: 9 | L13: 10 | M13: 9 | N13: 95 | O13: 10.
A14: 11 | B14: B-FIT | C14: 9 | D14: 7 | E14: 11 | F14: 7 | G14: 11 | H14: 11 | I14: 11 | J14: 11 | K14: 11 | L14: 11 | M14: 11 | N14: 111 | O14: 11.

Sheet Individuální disciplíny
A1: MÍČOVÝ VÍCEBOJ 2026 | C1: basketbal | F1: florbal | I1: kopaná | L1: kuličky | O1: petangue | R1: softball | U1: kuželky
A2: družstvo | B2: jednotlivci | C2: výkon | D2: součet | E2: pořadí | F2: výkon | G2: součet | H2: pořadí | I2: výkon | J2: součet | K2: pořadí | L2: výkon | M2: součet | N2: pořadí | O2: výkon | P2: součet | Q2: pořadí | R2: výkon | S2: součet | T2: pořadí | U2: výkon | V2: součet | W2: pořadí
A4: 1 SÍDLISKOVÝ SEN | B4: Jakub Hauschke | C4: 13 | D4: =IF(C4>0,SUM(C4:C6),"") -> 37 | E4: =IF(C4>0,RANK(D4,D$4:D$27,1),"") -> 5 | F4: 20 | G4: 46 | H4: 8 | I4: 12 | J4: 43 | K4: 1 | L4: 19 | M4: 59 | N4: 6 | O4: 60 | P4: 123 | Q4: 9 | T4: 10 | U4: 25 | V4: 84 | W4: 5
B5: David Hauschke | C5: 14 | F5: 10 | I5: 14 | L5: 22 | O5: 52 | U5: 35
B6: Ladislav Kudláček | C6: 10 | F6: 16 | I6: 17 | L6: 18 | O6: 11 | U6: 24
A7: 2 VLČÁCI | B7: Jiří Vlček | C7: 49 | D7: =IF(C7>0,SUM(C7:C9),"") -> 78 | E7: 11 | F7: 30 | G7: 69 | H7: 3 | I7: 13 | J7: 33 | K7: 8 | L7: 12 | M7: 50 | N7: 1 | O7: 4 | P7: 21 | Q7: 1 | T7: 4 | U7: 21 | V7: 82 | W7: 6
B8: Jakub Vlček | C8: 17 | F8: 23 | I8: 8 | L8: 17 | O8: 16 | U8: 30
B9: Jan Dvořák | C9: 12 | F9: 16 | I9: 12 | L9: 21 | O9: 1 | U9: 31
A10: 3 MÍČBOYS | B10: Ondřej Pavlínek | C10: 27 | D10: =IF(C10>0,SUM(C10:C12),"") -> 44 | E10: 8 | F10: 23 | G10: 58 | H10: 6 | I10: 14 | J10: 40 | K10: 2 | L10: 20 | M10: 63 | N10: 8 | O10: 42 | P10: 91 | Q10: 8 | T10: 9 | U10: 28 | V10: 89 | W10: 3
B11: Luděk Friml | C11: 7 | F11: 23 | I11: 12 | L11: 19 | O11: 35 | U11: 36
B12: Petr Bárta | C12: 10 | F12: 12 | I12: 14 | L12: 24 | O12: 14 | U12: 25
A13: 4 MÍČOVÉ KOMANDO | B13: Tomáš Verner | C13: 9 | D13: =IF(C13>0,SUM(C13:C15),"") -> 30 | E13: 4 | F13: 21 | G13: 74 | H13: 2 | I13: 14 | J13: 39 | K13: 4 | L13: 17 | M13: 56 | N13: 4 | O13: 33 | P13: 88 | Q13: 7 | T13: 2 | U13: 30 | V13: 97 | W13: 2
B14: Karel Gombarčík | C14: 7 | F14: 25 | I14: 13 | L14: 19 | O14: 2 | U14: 31
B15: Bohouš Foglar | C15: 14 | F15: 28 | I15: 12 | L15: 20 | O15: 53 | U15: 36
A16: 5 AZ VRÁTNO | B16: Libor Průša | C16: 10 | D16: =IF(C16>0,SUM(C16:C18),"") -> 36 | E16: 5 | F16: 16 | G16: 62 | H16: 4 | I16: 11 | J16: 33 | K16: 9 | L16: 18 | M16: 53 | N16: 2 | O16: 23 | P16: 43 | Q16: 2 | T16: 6 | U16: 34 | V16: 81 | W16: 7
B17: Jan Průša | C17: 7 | F17: 27 | I17: 12 | L17: 19 | O17: 13 | U17: 20
B18: Jan Miler | C18: 19 | F18: 19 | I18: 10 | L18: 16 | O18: 7 | U18: 27
A19: 6 VK ORLI PŘÍČNICE | B19: Tomáš Valášek | C19: 11 | D19: =IF(C19>0,SUM(C19:C21),"") -> 27 | E19: 2 | F19: 21 | G19: 59 | H19: 5 | I19: 13 | J19: 34 | K19: 7 | L19: 18 | M19: 63 | N19: 7 | O19: 45 | P19: 84 | Q19: 6 | T19: 3 | U19: 36 | V19: 88 | W19: 4
B20: Marek Jiránek | C20: 6 | F20: 11 | I20: 7 | L20: 26 | O20: 16 | U20: 22
B21: Ondřej Balcar | C21: 10 | F21: 27 | I21: 14 | L21: 19 | O21: 23 | U21: 30
A22: 7 TULENI | B22: Josef Lácha | C22: 13 | D22: =IF(C22>0,SUM(C22:C24),"") -> 52 | E22: 10 | F22: 7 | G22: 28 | H22: 11 | I22: 14 | J22: 35 | K22: 6 | L22: 22 | M22: 64 | N22: 9 | O22: 9 | P22: 46 | Q22: 3 | T22: 8 | U22: 27 | V22: 78 | W22: 9
B23: Zuzana Láchová | C23: 17 | F23: 20 | I23: 15 | L23: 27 | O23: 26 | U23: 21
B24: Leoš | C24: 22 | F24: 1 | I24: 6 | L24: 15 | O24: 11 | U24: 30
A25: 8 LACHTANI | B25: Petr Hauk | C25: 9 | D25: =IF(C25>0,SUM(C25:C27),"") -> 23 | E25: 1 | F25: 12 | G25: 39 | H25: 9 | I25: 14 | J25: 40 | K25: 3 | L25: 15 | M25: 54 | N25: 3 | O25: 1 | P25: 48 | Q25: 4 | T25: 5 | U25: 33 | V25: 102 | W25: 1
B26: Vojtěch Kučera | C26: 7 | F26: 11 | I26: 14 | L26: 17 | O26: 29 | U26: 34
B27: David Vávra | C27: 7 | F27: 16 | I27: 12 | L27: 22 | O27: 18 | U27: 35
A28: 9 HUŠKOVI | B28: Filip Hušek | C28: 10 | D28: =IF(C28>0,SUM(C28:C30),"") -> 29 | E28: 3 | F28: 22 | G28: 75 | H28: 1 | I28: 7 | J28: 28 | K28: 10 | L28: 21 | M28: 57 | N28: 5 | O28: 26 | P28: 54 | Q28: 5 | T28: 1 | U28: 19 | V28: 69 | W28: 10
B29: Adam Hušek | C29: 6 | F29: 40 | I29: 12 | L29: 19 | O29: 6 | U29: 20
B30: Jakub Hušek | C30: 13 | F30: 13 | I30: 9 | L30: 17 | O30: 22 | U30: 30
A31: 10 PIŇĎOVÉ | B31: William Hauk | C31: 6 | D31: =IF(C31>0,SUM(C31:C33),"") -> 37 | E31: 6 | F31: 16 | G31: 39 | H31: 10 | I31: 14 | J31: 39 | K31: 4 | L31: 23 | M31: 72 | N31: 10 | O31: 3 | P31: 133 | Q31: 10 | T31: 11 | U31: 31 | V31: 79 | W31: 8
B32: Jakub Kovář | C32: 10 | F32: 9 | I32: 13 | L32: 18 | O32: 74 | U32: 20
B33: Jáchym Kocián | C33: 21 | F33: 14 | I33: 12 | L33: 31 | O33: 56 | U33: 28
A34: 11 B-FIT | B34: Petra Hauková | C34: 14 | D34: =IF(C34>0,SUM(C34:C36),"") -> 46 | E34: 9 | F34: 19 | G34: 49 | H34: 7 | I34: 8 | J34: 28 | K34: 11 | L34: 24 | M34: 89 | N34: 11 | O34: 17 | P34: 212 | Q34: 11 | T34: 7 | U34: 26 | V34: 66 | W34: 11
B35: Séba Resl | C35: 21 | F35: 13 | I35: 12 | L35: 40 | O35: 150 | U35: 21
B36: Veronika Reslová | C36: 11 | F36: 17 | I36: 8 | L36: 25 | O36: 45 | U36: 19
